BEGIN:VCALENDAR
VERSION:2.0
PRODID:SchoolNow
CALSCALE:GREGORIAN
BEGIN:VEVENT
UID:303e1d24-b38c-11f0-916a-0a58a9feac02
DTSTAMP:20251216T154522Z
SUMMARY:BASKETBALL-JV Girls @ Elmwood Park (Game)
LOCATION:Away - Elmwood Park
URL;VALUE=URI:https://www.cusd201.org/whs/athletics/calendar/8755619/basket
 ball-jv-girls-elmwood-park-game
DTSTART:20260207T170000Z
DTEND:20260207T190000Z
END:VEVENT
END:VCALENDAR
