BEGIN:VCALENDAR
VERSION:2.0
PRODID:SchoolNow
CALSCALE:GREGORIAN
BEGIN:VEVENT
UID:0c5fbf62-b656-11f0-b904-0a58a9feac02
DTSTAMP:20251216T154523Z
SUMMARY:VOLLEYBALL-V Girls @ IHSA Sectional Semifinal (Game)
LOCATION:Away - Rockford (Boylan Catholic)
URL;VALUE=URI:https://www.cusd201.org/whs/athletics/calendar/8763436/volley
 ball-v-girls-ihsa-sectional-semifinal-game
DTSTART:20251105T010000Z
DTEND:20251105T030000Z
END:VEVENT
END:VCALENDAR
