BEGIN:VCALENDAR
VERSION:2.0
PRODID:SchoolNow
CALSCALE:GREGORIAN
BEGIN:VEVENT
UID:0b78de2a-b689-11f0-b557-0a58a9feac02
DTSTAMP:20251216T154523Z
SUMMARY:SOFTBALL-V Girls - VS Plano (Game)
LOCATION:HOME - Westmont HS Softball Field
URL;VALUE=URI:https://www.cusd201.org/whs/athletics/calendar/8765382/softba
 ll-v-girls-vs-plano-game
DTSTART:20260321T160000Z
DTEND:20260321T173000Z
END:VEVENT
END:VCALENDAR
