BEGIN:VCALENDAR
VERSION:2.0
PRODID:SchoolNow
CALSCALE:GREGORIAN
BEGIN:VEVENT
UID:0b78e186-b689-11f0-a749-0a58a9feac02
DTSTAMP:20251216T154523Z
SUMMARY:SOFTBALL-JV Girls - VS Plano (Game)
LOCATION:HOME - Westmont HS Softball Field
URL;VALUE=URI:https://www.cusd201.org/whs/athletics/calendar/8765383/softba
 ll-jv-girls-vs-plano-game
DTSTART:20260321T173000Z
DTEND:20260321T193000Z
END:VEVENT
END:VCALENDAR
