BEGIN:VCALENDAR
VERSION:2.0
PRODID:SchoolNow
CALSCALE:GREGORIAN
BEGIN:VEVENT
UID:f19fbda0-b8ec-11f0-83d4-0a58a9feac02
DTSTAMP:20251216T154523Z
SUMMARY:BASKETBALL-V Girls - VS Addison Trail High School (Game)
LOCATION:HOME - Westmont HS Gym
URL;VALUE=URI:https://www.cusd201.org/whs/athletics/calendar/8772877/basket
 ball-v-girls-vs-addison-trail-high-school-game
DTSTART:20260115T013000Z
DTEND:20260115T030000Z
END:VEVENT
END:VCALENDAR
