BEGIN:VCALENDAR
VERSION:2.0
PRODID:SchoolNow
CALSCALE:GREGORIAN
BEGIN:VEVENT
UID:f1b80f0e-b8ec-11f0-8770-0a58a9feac02
DTSTAMP:20251216T154522Z
SUMMARY:BASKETBALL-JV Girls - VS Addison Trail High School (Game)
LOCATION:HOME - Westmont HS Gym
URL;VALUE=URI:https://www.cusd201.org/whs/athletics/calendar/8772878/basket
 ball-jv-girls-vs-addison-trail-high-school-game
DTSTART:20260114T223000Z
DTEND:20260115T000000Z
END:VEVENT
END:VCALENDAR
