BEGIN:VCALENDAR
VERSION:2.0
PRODID:SchoolNow
CALSCALE:GREGORIAN
BEGIN:VEVENT
UID:ec39d2aa-b91f-11f0-9ba0-0a58a9feac02
DTSTAMP:20251216T154522Z
SUMMARY:WRESTLING-V Boys - VS MEET THE SENTINELS NIGHT (Game)
LOCATION:HOME - Westmont HS Gym
URL;VALUE=URI:https://www.cusd201.org/whs/athletics/calendar/8774363/wrestl
 ing-v-boys-vs-meet-the-sentinels-night-game
DTSTART:20251121T223000Z
DTEND:20251122T000000Z
END:VEVENT
END:VCALENDAR
