BEGIN:VCALENDAR
VERSION:2.0
PRODID:SchoolNow
CALSCALE:GREGORIAN
BEGIN:VEVENT
UID:df8df81a-ba1e-11f0-90eb-0a58a9feac02
DTSTAMP:20251216T154523Z
SUMMARY:BASEBALL-JV Boys @ Winnebago (Game)
LOCATION:Away - Winnebago
URL;VALUE=URI:https://www.cusd201.org/whs/athletics/calendar/8778270/baseba
 ll-jv-boys-winnebago-game
DTSTART:20260403T213000Z
DTEND:20260403T233000Z
END:VEVENT
END:VCALENDAR
