BEGIN:VCALENDAR
VERSION:2.0
PRODID:SchoolNow
CALSCALE:GREGORIAN
BEGIN:VEVENT
UID:df9e6cd6-ba1e-11f0-be88-0a58a9feac02
DTSTAMP:20251216T154522Z
SUMMARY:BASEBALL-V Boys - VS Winnebago (Game)
LOCATION:HOME - Westmont HS Varsity Baseball Field
URL;VALUE=URI:https://www.cusd201.org/whs/athletics/calendar/8778271/baseba
 ll-v-boys-vs-winnebago-game
DTSTART:20260403T213000Z
DTEND:20260403T233000Z
END:VEVENT
END:VCALENDAR
