BEGIN:VCALENDAR
VERSION:2.0
PRODID:SchoolNow
CALSCALE:GREGORIAN
BEGIN:VEVENT
UID:df9e70be-ba1e-11f0-8613-0a58a9feac02
DTSTAMP:20251216T154523Z
SUMMARY:SOFTBALL-V Girls @ Rosary (Game)
LOCATION:Away - Rosary
URL;VALUE=URI:https://www.cusd201.org/whs/athletics/calendar/8778272/softba
 ll-v-girls-rosary-game
DTSTART:20260324T213000Z
DTEND:20260324T233000Z
END:VEVENT
END:VCALENDAR
