BEGIN:VCALENDAR
VERSION:2.0
PRODID:SchoolNow
CALSCALE:GREGORIAN
BEGIN:VEVENT
UID:d92c35c4-bab7-11f0-a51c-02d964ccd21d
DTSTAMP:20251216T154522Z
SUMMARY:TIME TBD- SOCCER-V Girls @ Body Armor Tournament (Game)
LOCATION:Away -
URL;VALUE=URI:https://www.cusd201.org/whs/athletics/calendar/8780212/time-t
 bd-soccer-v-girls-body-armor-tournament-game
DTSTART:20260413T050000Z
DTEND:20260414T045900Z
END:VEVENT
END:VCALENDAR
