BEGIN:VCALENDAR
VERSION:2.0
PRODID:SchoolNow
CALSCALE:GREGORIAN
BEGIN:VEVENT
UID:d939d800-bab7-11f0-836c-02d964ccd21d
DTSTAMP:20251216T154523Z
SUMMARY:TIME TBD- SOCCER-V Girls @ Body Armor Tournament (Game)
LOCATION:Away - Waukegan Sports Park
URL;VALUE=URI:https://www.cusd201.org/whs/athletics/calendar/8780213/time-t
 bd-soccer-v-girls-body-armor-tournament-game
DTSTART:20260411T050000Z
DTEND:20260412T045900Z
END:VEVENT
END:VCALENDAR
