BEGIN:VCALENDAR
VERSION:2.0
PRODID:SchoolNow
CALSCALE:GREGORIAN
BEGIN:VEVENT
UID:d939dc24-bab7-11f0-b0bc-02d964ccd21d
DTSTAMP:20251216T154523Z
SUMMARY:WRESTLING-V Boys @ Morton High School (East/West) (Game)
LOCATION:Away - Morton High School (East/West)
URL;VALUE=URI:https://www.cusd201.org/whs/athletics/calendar/8780214/wrestl
 ing-v-boys-morton-high-school-east-west-game
DTSTART:20260123T230000Z
DTEND:20260124T010000Z
END:VEVENT
END:VCALENDAR
