BEGIN:VCALENDAR
VERSION:2.0
PRODID:SchoolNow
CALSCALE:GREGORIAN
BEGIN:VEVENT
UID:d17c059a-bb50-11f0-824e-02353a3e14dd
DTSTAMP:20251216T154522Z
SUMMARY:SOFTBALL-V Girls @ Hinsdale South High School (Game)
LOCATION:Away - Hinsdale South High School
URL;VALUE=URI:https://www.cusd201.org/whs/athletics/calendar/8781557/softba
 ll-v-girls-hinsdale-south-high-school-game
DTSTART:20260407T214500Z
DTEND:20260407T234500Z
END:VEVENT
END:VCALENDAR
