BEGIN:VCALENDAR
VERSION:2.0
PRODID:SchoolNow
CALSCALE:GREGORIAN
BEGIN:VEVENT
UID:cad1e71c-bbb6-11f0-b455-0affe722d35d
DTSTAMP:20251216T154523Z
SUMMARY:BASEBALL-JV Boys - VS Von Steuben HS (Game)
LOCATION:HOME - Westmont HS Varsity Baseball Field
URL;VALUE=URI:https://www.cusd201.org/whs/athletics/calendar/8782453/baseba
 ll-jv-boys-vs-von-steuben-hs-game
DTSTART:20260318T213000Z
DTEND:20260318T233000Z
END:VEVENT
END:VCALENDAR
