BEGIN:VCALENDAR
VERSION:2.0
PRODID:SchoolNow
CALSCALE:GREGORIAN
BEGIN:VEVENT
UID:cad1ecee-bbb6-11f0-b91e-0affe722d35d
DTSTAMP:20251216T154523Z
SUMMARY:BASEBALL-V Boys @ Yeshiva (Game)
LOCATION:Away - Yeshiva
URL;VALUE=URI:https://www.cusd201.org/whs/athletics/calendar/8782454/baseba
 ll-v-boys-yeshiva-game
DTSTART:20260320T210000Z
DTEND:20260320T230000Z
END:VEVENT
END:VCALENDAR
