BEGIN:VCALENDAR
VERSION:2.0
PRODID:SchoolNow
CALSCALE:GREGORIAN
BEGIN:VEVENT
UID:cad1ef14-bbb6-11f0-8dff-0affe722d35d
DTSTAMP:20251216T154522Z
SUMMARY:BASEBALL-JV Boys @ Lisle (Game)
LOCATION:Away - Lisle
URL;VALUE=URI:https://www.cusd201.org/whs/athletics/calendar/8782455/baseba
 ll-jv-boys-lisle-game
DTSTART:20260417T213000Z
DTEND:20260417T233000Z
END:VEVENT
END:VCALENDAR
