BEGIN:VCALENDAR
VERSION:2.0
PRODID:SchoolNow
CALSCALE:GREGORIAN
BEGIN:VEVENT
UID:cad1f0fe-bbb6-11f0-96c7-0affe722d35d
DTSTAMP:20251216T154523Z
SUMMARY:BASEBALL-V Boys @ Rockford East High School (Game)
LOCATION:Away - Rockford East High School
URL;VALUE=URI:https://www.cusd201.org/whs/athletics/calendar/8782456/baseba
 ll-v-boys-rockford-east-high-school-game
DTSTART:20260406T213000Z
DTEND:20260406T233000Z
END:VEVENT
END:VCALENDAR
