BEGIN:VCALENDAR
VERSION:2.0
PRODID:SchoolNow
CALSCALE:GREGORIAN
BEGIN:VEVENT
UID:cb398b92-bbb6-11f0-bdfc-0affe722d35d
DTSTAMP:20251216T154522Z
SUMMARY:BASEBALL-V Boys @ Lake View High School (Game)
LOCATION:Away - Lake View High School
URL;VALUE=URI:https://www.cusd201.org/whs/athletics/calendar/8782457/baseba
 ll-v-boys-lake-view-high-school-game
DTSTART:20260522T213000Z
DTEND:20260522T233000Z
END:VEVENT
END:VCALENDAR
