BEGIN:VCALENDAR
VERSION:2.0
PRODID:SchoolNow
CALSCALE:GREGORIAN
BEGIN:VEVENT
UID:cb3996dc-bbb6-11f0-bdbf-0affe722d35d
DTSTAMP:20251216T154522Z
SUMMARY:BASEBALL-JV Boys - VS Proviso East (Game)
LOCATION:HOME - Westmont HS Varsity Baseball Field
URL;VALUE=URI:https://www.cusd201.org/whs/athletics/calendar/8782458/baseba
 ll-jv-boys-vs-proviso-east-game
DTSTART:20260514T213000Z
DTEND:20260514T233000Z
END:VEVENT
END:VCALENDAR
