BEGIN:VCALENDAR
VERSION:2.0
PRODID:SchoolNow
CALSCALE:GREGORIAN
BEGIN:VEVENT
UID:cb399a24-bbb6-11f0-95c3-0affe722d35d
DTSTAMP:20251216T154522Z
SUMMARY:BASEBALL-JV Boys @ Ridgewood HS (Game)
LOCATION:Away - Ridgewood HS
URL;VALUE=URI:https://www.cusd201.org/whs/athletics/calendar/8782459/baseba
 ll-jv-boys-ridgewood-hs-game
DTSTART:20260401T213000Z
DTEND:20260401T233000Z
END:VEVENT
END:VCALENDAR
