BEGIN:VCALENDAR
VERSION:2.0
PRODID:SchoolNow
CALSCALE:GREGORIAN
BEGIN:VEVENT
UID:cb399b6e-bbb6-11f0-bf18-0affe722d35d
DTSTAMP:20251216T154523Z
SUMMARY:BASEBALL-V Boys - VS Peotone (Game)
LOCATION:HOME - Westmont HS Varsity Baseball Field
URL;VALUE=URI:https://www.cusd201.org/whs/athletics/calendar/8782460/baseba
 ll-v-boys-vs-peotone-game
DTSTART:20260423T213000Z
DTEND:20260423T233000Z
END:VEVENT
END:VCALENDAR
