BEGIN:VCALENDAR
VERSION:2.0
PRODID:SchoolNow
CALSCALE:GREGORIAN
BEGIN:VEVENT
UID:cb399de4-bbb6-11f0-a11e-0affe722d35d
DTSTAMP:20251216T154523Z
SUMMARY:BASEBALL-JV Boys @ Northridge Prep (Game)
LOCATION:Away - Northridge Prep
URL;VALUE=URI:https://www.cusd201.org/whs/athletics/calendar/8782461/baseba
 ll-jv-boys-northridge-prep-game
DTSTART:20260323T213000Z
DTEND:20260323T233000Z
END:VEVENT
END:VCALENDAR
