BEGIN:VCALENDAR
VERSION:2.0
PRODID:SchoolNow
CALSCALE:GREGORIAN
BEGIN:VEVENT
UID:cb399f42-bbb6-11f0-8efc-0affe722d35d
DTSTAMP:20251216T154522Z
SUMMARY:BASEBALL-V Boys @ Stillman Valley (Game)
LOCATION:Away - Stillman Valley
URL;VALUE=URI:https://www.cusd201.org/whs/athletics/calendar/8782462/baseba
 ll-v-boys-stillman-valley-game
DTSTART:20260516T160000Z
DTEND:20260516T180000Z
END:VEVENT
END:VCALENDAR
