BEGIN:VCALENDAR
VERSION:2.0
PRODID:SchoolNow
CALSCALE:GREGORIAN
BEGIN:VEVENT
UID:cb39a096-bbb6-11f0-bd3e-0affe722d35d
DTSTAMP:20251216T154522Z
SUMMARY:BASEBALL-V Boys @ Noble/Speer Academy (Game)
LOCATION:Away - Noble/Speer Academy
URL;VALUE=URI:https://www.cusd201.org/whs/athletics/calendar/8782463/baseba
 ll-v-boys-noble-speer-academy-game
DTSTART:20260326T213000Z
DTEND:20260326T233000Z
END:VEVENT
END:VCALENDAR
