BEGIN:VCALENDAR
VERSION:2.0
PRODID:SchoolNow
CALSCALE:GREGORIAN
BEGIN:VEVENT
UID:cb39a186-bbb6-11f0-acfd-0affe722d35d
DTSTAMP:20251216T154522Z
SUMMARY:BASEBALL-JV Boys @ Harvest Westminster (Game)
LOCATION:Away - Harvest Westminster
URL;VALUE=URI:https://www.cusd201.org/whs/athletics/calendar/8782464/baseba
 ll-jv-boys-harvest-westminster-game
DTSTART:20260317T213000Z
DTEND:20260317T233000Z
END:VEVENT
END:VCALENDAR
