BEGIN:VCALENDAR
VERSION:2.0
PRODID:SchoolNow
CALSCALE:GREGORIAN
BEGIN:VEVENT
UID:cb39a294-bbb6-11f0-91e7-0affe722d35d
DTSTAMP:20251216T154522Z
SUMMARY:BASEBALL-V Boys - VS Big Rock Crossroads Academy (Game)
LOCATION:HOME - Westmont HS Varsity Baseball Field
URL;VALUE=URI:https://www.cusd201.org/whs/athletics/calendar/8782465/baseba
 ll-v-boys-vs-big-rock-crossroads-academy-game
DTSTART:20260409T213000Z
DTEND:20260409T233000Z
END:VEVENT
END:VCALENDAR
