BEGIN:VCALENDAR
VERSION:2.0
PRODID:SchoolNow
CALSCALE:GREGORIAN
BEGIN:VEVENT
UID:cb39a474-bbb6-11f0-bf84-0affe722d35d
DTSTAMP:20251216T154523Z
SUMMARY:BASEBALL-JV Boys - VS Northridge Prep (Game)
LOCATION:HOME - Westmont HS Varsity Baseball Field
URL;VALUE=URI:https://www.cusd201.org/whs/athletics/calendar/8782466/baseba
 ll-jv-boys-vs-northridge-prep-game
DTSTART:20260507T213000Z
DTEND:20260507T233000Z
END:VEVENT
END:VCALENDAR
