BEGIN:VCALENDAR
VERSION:2.0
PRODID:SchoolNow
CALSCALE:GREGORIAN
BEGIN:VEVENT
UID:cb39a64a-bbb6-11f0-b051-0affe722d35d
DTSTAMP:20251216T154522Z
SUMMARY:BASEBALL-V Boys - VS Chicago Hancock (Game)
LOCATION:HOME - Westmont HS Varsity Baseball Field
URL;VALUE=URI:https://www.cusd201.org/whs/athletics/calendar/8782467/baseba
 ll-v-boys-vs-chicago-hancock-game
DTSTART:20260523T180000Z
DTEND:20260523T200000Z
END:VEVENT
END:VCALENDAR
