BEGIN:VCALENDAR
VERSION:2.0
PRODID:SchoolNow
CALSCALE:GREGORIAN
BEGIN:VEVENT
UID:cb39a82a-bbb6-11f0-8b3c-0affe722d35d
DTSTAMP:20251216T154523Z
SUMMARY:BASEBALL-JV Boys - VS Jefferson (Game)
LOCATION:HOME - Westmont HS Varsity Baseball Field
URL;VALUE=URI:https://www.cusd201.org/whs/athletics/calendar/8782468/baseba
 ll-jv-boys-vs-jefferson-game
DTSTART:20260410T213000Z
DTEND:20260410T233000Z
END:VEVENT
END:VCALENDAR
