BEGIN:VCALENDAR
VERSION:2.0
PRODID:SchoolNow
CALSCALE:GREGORIAN
BEGIN:VEVENT
UID:cb39a91a-bbb6-11f0-85b9-0affe722d35d
DTSTAMP:20251216T154523Z
SUMMARY:BASEBALL-JV Boys @ Harvest Westminster (Game)
LOCATION:Away - Harvest Westminster
URL;VALUE=URI:https://www.cusd201.org/whs/athletics/calendar/8782469/baseba
 ll-jv-boys-harvest-westminster-game
DTSTART:20260407T213000Z
DTEND:20260407T233000Z
END:VEVENT
END:VCALENDAR
