BEGIN:VCALENDAR
VERSION:2.0
PRODID:SchoolNow
CALSCALE:GREGORIAN
BEGIN:VEVENT
UID:cb461bbe-bbb6-11f0-9ba5-0affe722d35d
DTSTAMP:20251216T154522Z
SUMMARY:BASEBALL-V Boys @ Rockford Guilford (Game)
LOCATION:Away - Rockford Guilford
URL;VALUE=URI:https://www.cusd201.org/whs/athletics/calendar/8782470/baseba
 ll-v-boys-rockford-guilford-game
DTSTART:20260402T213000Z
DTEND:20260402T233000Z
END:VEVENT
END:VCALENDAR
