BEGIN:VCALENDAR
VERSION:2.0
PRODID:SchoolNow
CALSCALE:GREGORIAN
BEGIN:VEVENT
UID:cb461f7e-bbb6-11f0-9d5a-0affe722d35d
DTSTAMP:20251216T154522Z
SUMMARY:BASEBALL-V Boys - VS Clark (Game)
LOCATION:HOME - Westmont HS Varsity Baseball Field
URL;VALUE=URI:https://www.cusd201.org/whs/athletics/calendar/8782471/baseba
 ll-v-boys-vs-clark-game
DTSTART:20260319T213000Z
DTEND:20260319T233000Z
END:VEVENT
END:VCALENDAR
