BEGIN:VCALENDAR
VERSION:2.0
PRODID:SchoolNow
CALSCALE:GREGORIAN
BEGIN:VEVENT
UID:cb462334-bbb6-11f0-acea-0affe722d35d
DTSTAMP:20251216T154523Z
SUMMARY:BASEBALL-JV Boys - VS Stillman Valley (Game)
LOCATION:HOME - Westmont HS Varsity Baseball Field
URL;VALUE=URI:https://www.cusd201.org/whs/athletics/calendar/8782472/baseba
 ll-jv-boys-vs-stillman-valley-game
DTSTART:20260516T160000Z
DTEND:20260516T180000Z
END:VEVENT
END:VCALENDAR
