BEGIN:VCALENDAR
VERSION:2.0
PRODID:SchoolNow
CALSCALE:GREGORIAN
BEGIN:VEVENT
UID:cb46250a-bbb6-11f0-a960-0affe722d35d
DTSTAMP:20251216T154522Z
SUMMARY:BASEBALL-V Boys - VS Noble/Speer Academy (Game)
LOCATION:HOME - Westmont HS Varsity Baseball Field
URL;VALUE=URI:https://www.cusd201.org/whs/athletics/calendar/8782473/baseba
 ll-v-boys-vs-noble-speer-academy-game
DTSTART:20260424T213000Z
DTEND:20260424T233000Z
END:VEVENT
END:VCALENDAR
