BEGIN:VCALENDAR
VERSION:2.0
PRODID:SchoolNow
CALSCALE:GREGORIAN
BEGIN:VEVENT
UID:cb462672-bbb6-11f0-b577-0affe722d35d
DTSTAMP:20251216T154522Z
SUMMARY:BASEBALL-JV Boys @ Peotone (Game)
LOCATION:Away - Peotone
URL;VALUE=URI:https://www.cusd201.org/whs/athletics/calendar/8782474/baseba
 ll-jv-boys-peotone-game
DTSTART:20260423T213000Z
DTEND:20260423T233000Z
END:VEVENT
END:VCALENDAR
