BEGIN:VCALENDAR
VERSION:2.0
PRODID:SchoolNow
CALSCALE:GREGORIAN
BEGIN:VEVENT
UID:cb462c6c-bbb6-11f0-9cb1-0affe722d35d
DTSTAMP:20251216T154523Z
SUMMARY:BASEBALL-V Boys @ Ogden Intl (Game)
LOCATION:Away - Ogden Intl
URL;VALUE=URI:https://www.cusd201.org/whs/athletics/calendar/8782477/baseba
 ll-v-boys-ogden-intl-game
DTSTART:20260328T213000Z
DTEND:20260328T233000Z
END:VEVENT
END:VCALENDAR
