BEGIN:VCALENDAR
VERSION:2.0
PRODID:SchoolNow
CALSCALE:GREGORIAN
BEGIN:VEVENT
UID:cb462d84-bbb6-11f0-b9b8-0affe722d35d
DTSTAMP:20251216T154523Z
SUMMARY:BASEBALL-JV Boys - VS Big Rock Crossroads Academy (Game)
LOCATION:HOME - Westmont HS Varsity Baseball Field
URL;VALUE=URI:https://www.cusd201.org/whs/athletics/calendar/8782478/baseba
 ll-jv-boys-vs-big-rock-crossroads-academy-game
DTSTART:20260331T213000Z
DTEND:20260331T233000Z
END:VEVENT
END:VCALENDAR
