BEGIN:VCALENDAR
VERSION:2.0
PRODID:SchoolNow
CALSCALE:GREGORIAN
BEGIN:VEVENT
UID:cb50be98-bbb6-11f0-bfc4-0affe722d35d
DTSTAMP:20251216T154522Z
SUMMARY:BASEBALL-JV Boys - VS Disney II (Game)
LOCATION:HOME - Westmont HS Varsity Baseball Field
URL;VALUE=URI:https://www.cusd201.org/whs/athletics/calendar/8782479/baseba
 ll-jv-boys-vs-disney-ii-game
DTSTART:20260404T160000Z
DTEND:20260404T180000Z
END:VEVENT
END:VCALENDAR
