BEGIN:VCALENDAR
VERSION:2.0
PRODID:SchoolNow
CALSCALE:GREGORIAN
BEGIN:VEVENT
UID:cb50c550-bbb6-11f0-b875-0affe722d35d
DTSTAMP:20251216T154523Z
SUMMARY:BASEBALL-JV Boys - VS Ogden Intl (Game)
LOCATION:HOME - Westmont HS Varsity Baseball Field
URL;VALUE=URI:https://www.cusd201.org/whs/athletics/calendar/8782480/baseba
 ll-jv-boys-vs-ogden-intl-game
DTSTART:20260328T160000Z
DTEND:20260328T180000Z
END:VEVENT
END:VCALENDAR
