BEGIN:VCALENDAR
VERSION:2.0
PRODID:SchoolNow
CALSCALE:GREGORIAN
BEGIN:VEVENT
UID:cb50c6ea-bbb6-11f0-9a58-0affe722d35d
DTSTAMP:20251216T154522Z
SUMMARY:BASEBALL-V Boys - VS Northridge Prep (Game)
LOCATION:HOME - Westmont HS Varsity Baseball Field
URL;VALUE=URI:https://www.cusd201.org/whs/athletics/calendar/8782481/baseba
 ll-v-boys-vs-northridge-prep-game
DTSTART:20260323T213000Z
DTEND:20260323T233000Z
END:VEVENT
END:VCALENDAR
