BEGIN:VCALENDAR
VERSION:2.0
PRODID:SchoolNow
CALSCALE:GREGORIAN
BEGIN:VEVENT
UID:cb50ca6e-bbb6-11f0-be4e-0affe722d35d
DTSTAMP:20251216T154523Z
SUMMARY:BASEBALL-V Boys @ Lisle (Game)
LOCATION:Away - Lisle
URL;VALUE=URI:https://www.cusd201.org/whs/athletics/calendar/8782482/baseba
 ll-v-boys-lisle-game
DTSTART:20260417T213000Z
DTEND:20260417T233000Z
END:VEVENT
END:VCALENDAR
