BEGIN:VCALENDAR
VERSION:2.0
PRODID:SchoolNow
CALSCALE:GREGORIAN
BEGIN:VEVENT
UID:cb50ce88-bbb6-11f0-b1b3-0affe722d35d
DTSTAMP:20251216T154523Z
SUMMARY:BASEBALL-V Boys - VS Bogan High School (Game)
LOCATION:HOME - Westmont HS Varsity Baseball Field
URL;VALUE=URI:https://www.cusd201.org/whs/athletics/calendar/8782483/baseba
 ll-v-boys-vs-bogan-high-school-game
DTSTART:20260316T213000Z
DTEND:20260316T233000Z
END:VEVENT
END:VCALENDAR
