BEGIN:VCALENDAR
VERSION:2.0
PRODID:SchoolNow
CALSCALE:GREGORIAN
BEGIN:VEVENT
UID:cb50d194-bbb6-11f0-804a-0affe722d35d
DTSTAMP:20251216T154523Z
SUMMARY:BASEBALL-V Boys @ Von Steuben HS (Game)
LOCATION:Away - Von Steuben HS
URL;VALUE=URI:https://www.cusd201.org/whs/athletics/calendar/8782484/baseba
 ll-v-boys-von-steuben-hs-game
DTSTART:20260324T213000Z
DTEND:20260324T233000Z
END:VEVENT
END:VCALENDAR
