BEGIN:VCALENDAR
VERSION:2.0
PRODID:SchoolNow
CALSCALE:GREGORIAN
BEGIN:VEVENT
UID:cb5b4840-bbb6-11f0-9a53-0affe722d35d
DTSTAMP:20251216T154523Z
SUMMARY:BASEBALL-V Boys @ Simeon (Game)
LOCATION:Away - Simeon
URL;VALUE=URI:https://www.cusd201.org/whs/athletics/calendar/8782486/baseba
 ll-v-boys-simeon-game
DTSTART:20260321T160000Z
DTEND:20260321T180000Z
END:VEVENT
END:VCALENDAR
