BEGIN:VCALENDAR
VERSION:2.0
PRODID:SchoolNow
CALSCALE:GREGORIAN
BEGIN:VEVENT
UID:cb5b498a-bbb6-11f0-8ecd-0affe722d35d
DTSTAMP:20251216T154523Z
SUMMARY:BASEBALL-JV Boys - VS Lake View High School (Game)
LOCATION:HOME - Westmont HS Varsity Baseball Field
URL;VALUE=URI:https://www.cusd201.org/whs/athletics/calendar/8782487/baseba
 ll-jv-boys-vs-lake-view-high-school-game
DTSTART:20260522T213000Z
DTEND:20260522T233000Z
END:VEVENT
END:VCALENDAR
