BEGIN:VCALENDAR
VERSION:2.0
PRODID:SchoolNow
CALSCALE:GREGORIAN
BEGIN:VEVENT
UID:a8b7c346-be80-11f0-924d-025140286091
DTSTAMP:20251216T154523Z
SUMMARY:SOFTBALL-V Girls - VS Bulls Prep (Game)
LOCATION:HOME - Westmont HS Softball Field
URL;VALUE=URI:https://www.cusd201.org/whs/athletics/calendar/8788161/softba
 ll-v-girls-vs-bulls-prep-game
DTSTART:20260502T160000Z
DTEND:20260502T180000Z
END:VEVENT
END:VCALENDAR
