BEGIN:VCALENDAR
VERSION:2.0
PRODID:SchoolNow
CALSCALE:GREGORIAN
BEGIN:VEVENT
UID:a8c790be-be80-11f0-a5b6-025140286091
DTSTAMP:20251216T154523Z
SUMMARY:SOFTBALL-V Girls @ Naperville North (Game)
LOCATION:Away - Naperville North
URL;VALUE=URI:https://www.cusd201.org/whs/athletics/calendar/8788162/softba
 ll-v-girls-naperville-north-game
DTSTART:20260501T213000Z
DTEND:20260501T233000Z
END:VEVENT
END:VCALENDAR
