BEGIN:VCALENDAR
VERSION:2.0
PRODID:SchoolNow
CALSCALE:GREGORIAN
BEGIN:VEVENT
UID:a8ced4e6-be80-11f0-9446-025140286091
DTSTAMP:20251216T154522Z
SUMMARY:SOFTBALL-JV Girls @ Naperville North (Game)
LOCATION:Away - Naperville North
URL;VALUE=URI:https://www.cusd201.org/whs/athletics/calendar/8788163/softba
 ll-jv-girls-naperville-north-game
DTSTART:20260501T213000Z
DTEND:20260501T233000Z
END:VEVENT
END:VCALENDAR
