BEGIN:VCALENDAR
VERSION:2.0
PRODID:SchoolNow
CALSCALE:GREGORIAN
BEGIN:VEVENT
UID:8835c51c-c0e4-11f0-8303-0238ce0fa40f
DTSTAMP:20251216T154522Z
SUMMARY:ADMINISTRATION-N - VS CUSD 201 Faculty Basketball Game (Game)
LOCATION:HOME - Westmont HS Gym
URL;VALUE=URI:https://www.cusd201.org/whs/athletics/calendar/8794338/admini
 stration-n-vs-cusd-201-faculty-basketball-game-game
DTSTART:20260306T010000Z
DTEND:20260306T030000Z
END:VEVENT
END:VCALENDAR
